Workbook
Name \B: [1]DLC!$GR$107
Name \C: #REF!
Name \f: #REF!
Name \H: '[2]STN WISE EMR'!#REF!
Name \L: [1]DLC!$HR$111
Name \P: [1]DLC!$HR$109
Name \Q: [1]DLC!$GS$323:$GS$335
Name \S: #REF!
Name \V: '[3]R.Hrs. Since Comm'!#REF!
Name \W: #REF!
Name \X: #REF!
Name \Z: #REF!
Name ________A99999: #REF!
Name ________BSD1: #REF!
Name ________BSD2: #REF!
Name ________CZ1: [4]data!$F$721
Name ________IED1: #REF!
Name ________IED2: #REF!
Name ________LD1: [1]DLC!$K$59:$AF$8180
Name ________LD2: [1]DLC!$GR$56:$HT$8181
Name ________LD3: [1]DLC!$HV$57:$IO$8181
Name ________LD4: [1]DLC!$AH$32:$BE$8180
Name ________LD5: [1]DLC!$GR$53:$HK$8180
Name ________LD6: [1]DLC!$GR$69:$HL$8180
Name ________LR1: #REF!
Name ________LR2: #REF!
Name ________SCH6: '[5]04REL'!#REF!
Name ________SH1: '[6]Executive Summary -Thermal'!$A$4:$H$108
Name ________SH10: '[6]Executive Summary -Thermal'!$A$4:$G$118
Name ________SH11: '[6]Executive Summary -Thermal'!$A$4:$H$167
Name ________SH2: '[6]Executive Summary -Thermal'!$A$4:$H$157
Name ________SH3: '[6]Executive Summary -Thermal'!$A$4:$H$136
Name ________SH4: '[6]Executive Summary -Thermal'!$A$4:$H$96
Name ________SH5: '[6]Executive Summary -Thermal'!$A$4:$H$96
Name ________SH6: '[6]Executive Summary -Thermal'!$A$4:$H$95
Name ________SH7: '[6]Executive Summary -Thermal'!$A$4:$H$163
Name ________SH8: '[6]Executive Summary -Thermal'!$A$4:$H$133
Name ________SH9: '[6]Executive Summary -Thermal'!$A$4:$H$194
Name _______A99999: #REF!
Name _______BSD1: #REF!
Name _______BSD2: #REF!
Name _______CZ1: [4]data!$F$721
Name _______IED1: #REF!
Name _______IED2: #REF!
Name _______LD1: [1]DLC!$K$59:$AF$8180
Name _______LD2: [1]DLC!$GR$56:$HT$8181
Name _______LD3: [1]DLC!$HV$57:$IO$8181
Name _______LD4: [1]DLC!$AH$32:$BE$8180
Name _______LD5: [1]DLC!$GR$53:$HK$8180
Name _______LD6: [1]DLC!$GR$69:$HL$8180
Name _______LR1: #REF!
Name _______LR2: #REF!
Name _______SCH6: '[5]04REL'!#REF!
Name _______SH1: '[6]Executive Summary -Thermal'!$A$4:$H$108
Name _______SH10: '[6]Executive Summary -Thermal'!$A$4:$G$118
Name _______SH11: '[6]Executive Summary -Thermal'!$A$4:$H$167
Name _______SH2: '[6]Executive Summary -Thermal'!$A$4:$H$157
Name _______SH3: '[6]Executive Summary -Thermal'!$A$4:$H$136
Name _______SH4: '[6]Executive Summary -Thermal'!$A$4:$H$96
Name _______SH5: '[6]Executive Summary -Thermal'!$A$4:$H$96

Sheet Summary
A1: Supply Installation & Energization of electrical Infrastructure for Street lightining on Borkhedi wadner project
A2: Electricity Bills for 19 Locations – Borkhedi wadner project | L2: Appendix -I
A3: Sr. No. | B3: Location | C3: Connection Qty. | D3: Divison | E3: Work Detail | F3: Material Cost including GST | G3: Erection / labour Charge including GSt | H3: Total Amount Erection / labour Charge & Item Cost) including GST | I3: Other charges (Contractor Supervision charges, Contractor profit, Transportation, Contengencies, T & P, BG Charges, Labour Cess & Insurance) | J3: Other charges Including GST | K3: Supervision Charge Excluding GST | L3: Supervision GST Amount | M3: 15% normative charges including GST | N3: Grand Amount (incl GST) | O3: Item Cost Excluding GST | P3: Erection / labour Charge including GSt
A4: 1 | B4: Kankati | C4: 1 | D4: Hinganghat | E4: 1. Erection of 11 KV - 0.003 km 2. Errection of 11/0.44 KV_ Proposed 1 no of 25 KVA In line - Transformer 3. Erection of LT line | F4: =O4+O4*18% -> 234446.54 | G4: =P4 -> 29802.526 | H4: =F4+G4 -> 264249.07 | I4: 0 | J4: 0 | K4: 64075.43 | L4: =K4*18% -> 11533.577 | M4: 11341.35 | N4: =+H4+M4 -> 275590.42 | O4: 198683.51 | P4: =O4*15% -> 29802.526 | Q4: 275590.42
A5: =1+A4 -> 2 | B5: Jamb | C5: 1 | D5: Hinganghat | E5: 1. Erection of 11 KV 2. Errection of 11/0.44 KV_ Proposed1 no of 25 KVA In line - Transformer 3. Erection of LT line | F5: =O5+O5*18% -> 193878.17 | G5: =P5 -> 24645.53 | H5: =F5+G5 -> 218523.7 | I5: 0 | J5: 0 | K5: 52987.89 | L5: =K5*18% -> 9537.8202 | M5: 9378.86 | N5: =L5+K5+H5+M5 -> 290428.27 | O5: 164303.53 | P5: 24645.53 | Q5: 290428.6
A6: 3 | B6: Ubda | C6: 1 | D6: Hinganghat | E6: 1. Erection of 11 KV 2. Errection of 11/0.44 KV_ Proposed 1 no of 63 KVA In line - Transformer 3. Erection of LT line | F6: =O6+O6*18% -> 248757.07 | G6: =P6 -> 31621.662 | H6: =F6+G6 -> 280378.74 | I6: 0 | J6: 0 | K6: 67986.57 | L6: =K6*18% -> 12237.583 | M6: 12033.62 | N6: =L6+K6+H6+M6 -> 372636.51 | O6: 210811.08 | P6: =O6*15% -> 31621.662 | Q6: 372636.52
A7: 4 | B7: ASHTI INTERCHANGE/ KAWAD GHAT | C7: 1 | D7: Hinganghat | E7: 1. Erection of 11 KV 0.3km 2. Errection of 11/0.44 KV_ Proposed 1 no of 25 KVA - Transformer 3. Erection of LT line 3PH 4W 4. SPCP -01 | F7: =O7+O7*18% -> 373327.52 | G7: =P7+P7*18% -> 55999.127 | H7: =F7+G7 -> 429326.64 | I7: ='km 79 Kawalgat asthi interchang'!F8+'km 79 Kawalgat asthi interchang'!F10+'km 79 Kawalgat asthi interchang'!F12+'km 79 Kawalgat asthi interchang'!F13+'km 79 Kawalgat asthi interchang'!F14+'km 79 Kawalgat asthi interchang'!F16+'km 79 Kawalgat asthi interchang'!F18+'km 79 Kawalgat asthi interchang'!F19 -> 66222.353 | J7: =I7*1.18 -> 78142.377 | K7: =((H7+J7)*15%)/1.18 -> 64508.774 | L7: =K7*18% -> 11611.579 | M7: 0 | N7: =L7+K7+H7+M7+J7 -> 583589.37 | O7: 316379.25 | P7: =O7*15% -> 47456.887
A8: =A7+1 -> 5 | B8: WADNER BRIDGE | C8: 1 | D8: Hinganghat | E8: 1.Erection of 11 KV 0.06KM 2.Transformer , 1no of 100KVA 3. Errection of LT Line km | F8: =O8+O8*18% -> 406494.66 | G8: =P8+P8*18% -> 60974.199 | H8: =F8+G8 -> 467468.86 | I8: 0 | J8: 0 | K8: =(O8+P8)*1.3% -> 5150.0806 | L8: =K8*18% -> 927.01452 | M8: 0 | N8: =L8+K8+H8+M8+J8 -> 473545.95 | O8: ='Wadner Bridge'!F23 -> 344487 | P8: ='Wadner Bridge'!F24 -> 51673.05
A9: =A8+1 -> 6 | B9: PIPARI FLYOVER | C9: 1 | D9: Hinganghat | E9: 1. Erection of 11 KV 0.06KM 2.Transformer, 1no of 100KVA 3. Errection of 11KV SPCP | F9: =O9+O9*18% -> 361975.62 | G9: =P9+P9*18% -> 54296.343 | H9: =F9+G9 -> 416271.96 | I9: 0 | J9: 0 | K9: =(O9+P9)*1.3% -> 4586.0471 | L9: =K9*18% -> 825.48847 | M9: 0 | N9: =L9+K9+H9+M9+J9 -> 421683.5 | O9: ='Pipri Estimate'!F8 -> 306759 | P9: ='Pipri Estimate'!F9 -> 46013.85
A10: =A9+1 -> 7 | B10: POHANA FLYOVER | C10: 1 | D10: Hinganghat | E10: 1. Erection of 11 KV 0.06KM 2.Transformer, 1no of 100KVA 3. Errection of 11KV SPCP | F10: =O10+O10*18% -> 361975.62 | G10: =P10+P10*18% -> 54296.343 | H10: =F10+G10 -> 416271.96 | I10: 0 | J10: 0 | K10: =(O10+P10)*1.3% -> 4586.0471 | L10: =K10*18% -> 825.48847 | M10: 0 | N10: =L10+K10+H10+M10+J10 -> 421683.5 | O10: ='Estimate Pohana'!F20 -> 306759 | P10: ='Estimate Pohana'!F21 -> 46013.85
A11: =A10+1 -> 8 | B11: WADKI FLYOVER | C11: 1 | D11: Yavatmal | E11: 1. Erection of 11 KV Line on RSJ Pole 9 Mtr-0.06 Km 2 Erection of 11/0.4 KV 63 KVA DTC | F11: =O11+O11*18% -> 311147.12 | G11: =P11+P11*18% -> 46672.068 | H11: =F11+G11 -> 357819.19 | I11: 0 | J11: 0 | K11: =(H11)*1.3% -> 4651.6494 | L11: =K11*18% -> 837.2969 | M11: 0 | N11: =L11+K11+H11+M11+J11 -> 363308.13 | O11: ='Wadki Estimate'!E5 -> 263684 | P11: ='Wadki Estimate'!E6 -> 39552.6
A12: =A11+1 -> 9 | B12: BORI FLYOVER | C12: 1 | D12: Yavatmal | E12: 1. Erection of 11 KV Line on RSJ Pole 9 Mtr - 0.04 Km 2. Erection of 11/0.4 KV 63 KVA DTC - 01 Nos | F12: =O12+O12*18% -> 308338.72 | G12: =P12+P12*18% -> 46250.808 | H12: =F12+G12 -> 354589.53 | I12: 0 | J12: 0 | K12: =(H12)*1.3% -> 4609.6639 | L12: =K12*18% -> 829.7395 | M12: 0 | N12: =L12+K12+H12+M12+J12 -> 360028.93 | O12: ='Bori Estimate'!E4 -> 261304 | P12: ='Bori Estimate'!E5 -> 39195.6
E13: Sum of Section-1 | F13: =SUM(F4:F12) -> 2800341 | G13: =SUM(G4:G12) -> 404558.61 | H13: =SUM(H4:H12) -> 3204899.6 | I13: =SUM(I4:I12) -> 66222.353 | J13: =SUM(J4:J12) -> 78142.377 | K13: =SUM(K4:K12) -> 273142.15 | L13: =SUM(L4:L12) -> 49165.587 | N13: =SUM(N4:N12) -> 3562494.6
A14: =A12+1 -> 10 | B14: KHATARA FLYOVER | C14: 1 | D14: Pandhakawda | E14: 1. Erection of 11 KV Line on RSJ Pole 9 Mtr - 0.04 km 2 Erection of 11/0.4 KV 25 KVA DTC -01 Nos | F14: =O14+O14*18% -> 251244.42 | G14: =P14+P14*18% -> 37686.663 | H14: =F14+G14 -> 288931.08 | I14: 0 | J14: 0 | K14: =(H14)*1.3% -> 3756.1041 | L14: =K14*18% -> 676.09873 | M14: 0 | N14: =L14+K14+H14+M14+J14 -> 293363.29 | O14: ='Khatara Estmate Abstract 25'!$I$14 -> 212919 | P14: ='Khatara Estmate Abstract 25'!$I$15 -> 31937.85
A15: =A14+1 -> 11 | B15: ADNI FLYOVER | C15: 1 | D15: Pandhakawda | E15: 1. Erection of 11 KV Line on RSJ Pole 9 Mtr - 0.04 km 2 Erection of 11/0.4 KV 63 KVA DTC -01 Nos | F15: =O15+O15*18% -> 308338.72 | G15: =P15+P15*18% -> 46250.808 | H15: =F15+G15 -> 354589.53 | I15: 0 | J15: 0 | K15: =(H15)*1.3% -> 4609.6639 | L15: =K15*18% -> 829.7395 | M15: 0 | N15: =L15+K15+H15+M15+J15 -> 360028.93 | O15: ='Estmate Adni 63'!I11 -> 261304 | P15: ='Estmate Adni 63'!I12 -> 39195.6
A16: =A15+1 -> 12 | B16: KARANJI FLYOVER | C16: 1 | D16: Pandhakawda | E16: 1. Erection of 11 KV Line on RSJ Pole 9 Mtr - 0.04 km 2 Erection of 11/0.4 KV 100 KVA DTC -01 Nos | F16: =O16+O16*18% -> 334144.61 | G16: =P16+P16*18% -> 50121.692 | H16: =F16+G16 -> 384266.3 | I16: 0 | J16: 0 | K16: =(H16)*1.3% -> 4995.4619 | L16: =K16*18% -> 899.18315 | M16: 0 | N16: =L16+K16+H16+M16+J16 -> 390160.95 | O16: ='Karanji Estmate Abstract 100'!I14 -> 283173.4 | P16: ='Karanji Estmate Abstract 100'!I15 -> 42476.01
A17: =A16+1 -> 13 | B17: DHARNA FLYOVER | C17: 1 | D17: Pandhakawda | E17: 1. Erection of 11 KV Line on RSJ Pole 9 Mtr - 0.04 km 2 Erection of 11/0.4 KV 25 KVA DTC -01 Nos | F17: =O17+O17*18% -> 251244.42 | G17: =P17+P17*18% -> 37686.663 | H17: =F17+G17 -> 288931.08 | I17: 0 | J17: 0 | K17: =(H17)*1.3% -> 3756.1041 | L17: =K17*18% -> 676.09873 | M17: 0 | N17: =L17+K17+H17+M17+J17 -> 293363.29 | O17: ='Dharna Estmate Abstract 25'!I15 -> 212919 | P17: ='Dharna Estmate Abstract 25'!I16 -> 31937.85
A18: =A17+1 -> 14 | B18: SAKHARA FLYOVER | C18: 1 | D18: Pandhakawda | E18: 1. Erection of 11 KV Line on RSJ Pole 9 Mtr - 0.04 km 2 Erection of 11/0.4 KV 63 KVA DTC -01 Nos | F18: =O18+O18*18% -> 308338.72 | G18: =P18+P18*18% -> 46250.808 | H18: =F18+G18 -> 354589.53 | I18: 0 | J18: 0 | K18: =(H18)*1.3% -> 4609.6639 | L18: =K18*18% -> 829.7395 | M18: 0 | N18: =L18+K18+H18+M18+J18 -> 360028.93 | O18: ='Shakara Estmate Abstract 63'!I15 -> 261304 | P18: ='Shakara Estmate Abstract 63'!I16 -> 39195.6
A19: =A18+1 -> 15 | B19: PIMPIRI FLYOVER | C19: 2 | D19: Pandhakawda | E19: 1. Erection of 11 KV Line on RSJ Pole 9 Mtr. - 0.10 KM 2. Erection of 11/0.4 KV 100 KVA DTC - 2 No | F19: =O19+O19*18% -> 615486.82 | G19: =P19+P19*18% -> 92323.023 | H19: =F19+G19 -> 707809.84 | I19: 0 | J19: 0 | K19: =(H19)*1.3% -> 9201.528 | L19: =K19*18% -> 1656.275 | M19: 0 | N19: =L19+K19+H19+M19+J19 -> 718667.65 | O19: =Pimpiri!E8 -> 521599 | P19: =Pimpiri!E9 -> 78239.85
A20: =A19+1 -> 16 | B20: MARATHA-WAKADI FLYOVER | C20: 1 | D20: Pandhakawda | E20: 1 Erection of 11 KV Line on RSJ Pole 10 Mtr - 0.12 km 2. Erection of 11/0.4 KV 63 KVA DTC - 01 Nos 3. Erection of LT Line 3Ø4W on RSJ Pole 8 Mtr - 0.12 km | F20: =O20+O20*18% -> 389655.78 | G20: =P20+P20*18% -> 58448.367 | H20: =F20+G20 -> 448104.14 | I20: 0 | J20: 0 | K20: =(H20)*1.3% -> 5825.3539 | L20: =K20*18% -> 1048.5637 | M20: 0 | N20: =L20+K20+H20+M20+J20 -> 454978.06 | O20: ='MARATHA-WAKADI Material Cost'!F32+'MARATHA-WAKADI Material Cost'!F63+'MARATHA-WAKADI Material Cost'!F94 -> 330216.76 | P20: =O20*15% -> 49532.514
A21: =A20+1 -> 17 | B21: Dhoki | C21: 1 | D21: Pandhakawda | E21: 1. Erection of 11 KV Line on RSJ Pole 10 Mtr. - 0.12km 2. Erection of 11/0.4 KV 63 KVA DTC - 01 Nos 3. Erection of LT Line 3Ø4W on RSJ Pole 8 Mtr. - 0.12 km | F21: =O21+O21*18% -> 389655.78 | G21: =P21+P21*18% -> 58448.362 | H21: =F21+G21 -> 448104.14 | I21: 0 | J21: 0 | K21: =H21*1.3% -> 5825.3538 | L21: =K21*18% -> 1048.5637 | M21: 0 | N21: =L21+K21+H21 -> 454978.06 | O21: 330216.76 | P21: 49532.51
A22: =A21+1 -> 18 | B22: PATAN BORI FLYOVER | C22: 1 | D22: Pandhakawda | E22: 1. Erection of 11 KV Line on PSC Pole 8 Mtr. 2 Erection of 11/0.4 KV 63 KVA DTC -01 Nos | F22: =O22+O22*18% -> 277700.87 | G22: =P22+P22*18% -> 41655.13 | H22: =F22+G22 -> 319356 | I22: 0 | J22: 0 | K22: =H22*1.3% -> 4151.628 | L22: =K22*18% -> 747.29304 | M22: 0 | N22: =L22+K22+H22 -> 324254.92 | O22: ='Patan bori estimate'!E5 -> 235339.72 | P22: ='Patan bori estimate'!E6 -> 35300.958
A23: =A22+1 -> 19 | B23: PIMPALKHUTI | C23: 1 | D23: Pandhakawda | E23: 1. Erection of 11/0.4 KV 25 KVA DTC - 01 Nos | F23: =O23+O23*18% -> 209413.66 | G23: =P23+P23*18% -> 31412.048 | H23: =F23+G23 -> 240825.7 | I23: 0 | J23: 0 | K23: =H23*1.3% -> 3130.7342 | L23: =K23*18% -> 563.53215 | M23: 0 | N23: =L23+K23+H23 -> 244519.97 | O23: ='Pimpalkuti estimate'!E11 -> 177469.2 | P23: ='Pimpalkuti estimate'!E12 -> 26620.38
E24: Sum of Section-2 | F24: =SUM(F14:F23) -> 3335223.8 | G24: =SUM(G14:G23) -> 500283.56 | H24: =SUM(H14:H23) -> 3835507.4 | I24: =SUM(I14:I23) -> 0 | J24: =SUM(J14:J23) -> 0 | K24: =SUM(K14:K23) -> 49861.596 | L24: =SUM(L14:L23) -> 8975.0872 | M24: =SUM(M14:M23) -> 0 | N24: =SUM(N14:N23) -> 3894344
A25: Total Amount->>>> | C25: =SUM(C4:C23) -> 20 | F25: =F24+F13 -> 6135564.8 | G25: =G24+G13 -> 904842.17 | H25: =H24+H13 -> 7040407 | I25: =I24+I13 -> 66222.353 | J25: =J24+J13 -> 78142.377 | K25: =K24+K13 -> 323003.75 | L25: =L24+L13 -> 58140.675 | M25: =M24+M13 -> 0 | N25: =N24+N13 -> 7456838.6
N26: ='HDD Abs'!F18 -> 4077844
N27: =N26+N25 -> 11534683

Sheet HDD Abs
A1: Abstract
A2: Sr.No | B2: Item Description | C2: UoM | D2: Qty | E2: Rate (Rs) | F2: Amount (Rs)
A3: Hinganghat
A4: 1 | B4: HDD Bore, 110 mm dia | C4: Rmt | D4: =Hinganghat!BO19 -> 334 | E4: 2400 | F4: =E4*D4 -> 801600 | H4: =D4+D8+D12 -> 934 | I4: =E4 -> 2400 | J4: =H4*I4 -> 2241600
A5: 2 | B5: HDPE Pipe 90mm dia | C5: Rmt | D5: =Hinganghat!BO19 -> 334 | E5: 1050 | F5: =E5*D5 -> 350700 | H5: =D5+D9+D13 -> 934 | I5: =E5 -> 1050 | J5: =H5*I5 -> 980700
A6: 3 | B6: Underground Cable, 4C25 sq.mm | C6: Rmt | D6: =Hinganghat!BO19 -> 334 | E6: 250 | F6: =E6*D6 -> 83500 | H6: =D6+D10+D14 -> 934 | I6: =E6 -> 250 | J6: =H6*I6 -> 233500
A7: Yavatmal | J7: =SUM(J4:J6) -> 3455800
A8: 1 | B8: HDD Bore, 110 mm dia | C8: Rmt | D8: =Yavatmal!BO8 -> 96 | E8: 2400 | F8: =E8*D8 -> 230400
A9: 2 | B9: HDPE Pipe 90mm dia | C9: Rmt | D9: =D8 -> 96 | E9: 1050 | F9: =E9*D9 -> 100800
A10: 3 | B10: Underground Cable, 4C25 sq.mm | C10: Rmt | D10: =D9 -> 96 | E10: 250 | F10: =E10*D10 -> 24000
A11: Pandhakawda
A12: 1 | B12: HDD Bore, 110 mm dia | C12: Rmt | D12: =Pandhakawda!BO26 -> 504 | E12: 2400 | F12: =E12*D12 -> 1209600
A13: 2 | B13: HDPE Pipe 90mm dia | C13: Rmt | D13: =D12 -> 504 | E13: 1050 | F13: =E13*D13 -> 529200
A14: 3 | B14: Underground Cable, 4C25 sq.mm | C14: Rmt | D14: =D13 -> 504 | E14: 250 | F14: =E14*D14 -> 126000
A16: Total | F16: =SUM(F4:F15) -> 3455800
A17: GST@18% | F17: =F16*0.18 -> 622044
A18: Grand Total | F18: =F16+F17 -> 4077844

Sheet Hinganghat
A1: R1_CGCEL_NHIT_CHAIANGE WISE BOQ BORKHEDI-WARDNER
A2: Abstract
A3: Sl.No | B3: AREA | C3: Chainage (km) | E3: Length(m) | F3: TCS No | G3: Pole Arrangement | H3: Spacing | J3: Total No.of Poles | K3: Total No.of Lights | M3: 9M DA Pole with 2M 10°tilt | N3: 9M SA Pole with 0.5M 5° tilt | O3: 9M Diff.A Pole with 0.5M 5° SA & 0.5M 5° Diff.Arm | P3: 9M Diff.A Pole with 0.5M 10° SA & 2M 15° Diff.Arm | R3: 250 WATT SL_50 | S3: 180 WATT SL_50 | T3: 220 WATT SL_50 | U3: CFS-504-100-57-60D-SL-GL-NSG | W3: TOTAL UG CABLE LENGTH | X3: 4CX16 SQ.MM AL.AR | Y3: 3CX1.5 SQ.MM CU.FLEX | AA3: 4CX16 AL.AR Terminations | AB3: 4CX10 AL.AR Terminations | AD3: SEPERATOR/ MEDIAN | AE3: CRASH BARRIER/ RE WALL | AG3: TYPE-A | AH3: TYPE-B | AJ3: 2 MCBs | AK3: 1 MCB | AM3: ROD | AN3: PIPE | AO3: FLAT | AP3: GI WIRE | AR3: Under Deck Load | AS3: Feeder Panel Location | AT3: STREET LIGHTING LOAD | AU3: TOLL PLAZA LIGHTING LOAD | AV3: TOTAL LOAD | AW3: Tentative Transformer Chainage | AX3: Transformer wise Load | AY3: Concern MSEDCL Division | AZ3: Application ID | BA3: Fee Recipt No | BB3: Consumer No | BC3: Concern JE/AE | BD3: Tentative Estimate Amount (incl. GST & Supervision Charges) | BE3: Status of sanction | BF3: Pending With | BG3: Division | BH3: 25 KVA | BI3: 63 KVA | BJ3: 100 KVA | BK3: 11 KV HT OH line | BL3: LT Line | BM3: SPCP | BN3: Length | BO3: Length Of Bore HDD Dia
C4: From | D4: to | H4: MCW | I4: SR
A5: 1 | B5: KANKATI | C5: 50000 | D5: 50500 | E5: =D5-C5 -> 500 | G5: Double arm on Median GL | H5: 42 | J5: =SUM(M5:P5) -> 12 | K5: =SUM(R5:U5) -> 24 | M5: =ROUND((E5/H5),0) -> 12 | R5: =M5*2 -> 24 | W5: =J5*(H5+4) -> 552 | X5: =W5 -> 552 | Y5: =M5*12*2+N5*10+O5*(10+6)+P5*(12+6)+U5*20 -> 288 | AA5: =J5*2 -> 24 | AD5: =H5*J5 -> 504 | AH5: 1 | AJ5: =M5+O5+P5 -> 12 | AK5: =N5 -> 0 | AM5: =J5 -> 12 | AN5: =(AG5+AH5)*2 -> 2 | AO5: =AN5*5 -> 10 | AP5: =AM5*2 -> 24 | AT5: =R5*0.25+S5*0.18+T5*0.22+U5*0.1 -> 6 | AY5: Samudrapur Division, Dist Wardha | BC5: JE Samadrapur | BD5: 275590.42 | BE5: Yes | BF5: - | BG5: Hinganghat | BH5: 1 | BK5: 1 | BM5: 1 | BN5: 18 | BO5: =BN5*2 -> 36 | BS5: 19
A6: 2 | B6: JAMB JN | C6: 64+305 | D6: 64+810 | E6: 505 | G6: Double arm on Median & SA for SR BHS | H6: 42 | I6: 38 | J6: =SUM(M6:P6) -> 25 | K6: =SUM(R6:U6) -> 45 | M6: =ROUND((E6/H6),0) -> 12 | N6: =ROUND((E6/I6),0) -> 13 | R6: =M6*2+N6 -> 37 | U6: 8 | W6: =J6*(H6+4) -> 1150 | X6: =W6 -> 1150 | Y6: =M6*12*2+N6*10+O6*(10+6)+P6*(12+6)+U6*20 -> 578 | AA6: =J6*2 -> 50 | AD6: =H6*J6 -> 1050 | AE6: =U6*20 -> 160 | AH6: 1 | AJ6: =M6+O6+P6 -> 12 | AK6: =N6 -> 13 | AM6: =J6 -> 25 | AN6: =(AG6+AH6)*2 -> 2 | AO6: =AN6*5 -> 10 | AP6: =AM6*2 -> 50 | AT6: =R6*0.25+S6*0.18+T6*0.22+U6*0.1 -> 10.05 | BC6: JE Samadrapur | BD6: 290428.26 | BE6: Yes | BF6: - | BH6: 1 | BK6: 0 | BN6: 18 | BO6: =BN6*2 -> 36 | BS6: 2
A7: 3 | B7: UBADA FLYOVER | C7: 66+635 | D7: 67+610 | E7: 975 | G7: Diff. arm on Crash barrier | H7: 39 | J7: =SUM(M7:P7) -> 50 | K7: =SUM(R7:U7) -> 100 | O7: =ROUND((E7/H7),0)*2 -> 50 | R7: =O7 -> 50 | S7: =O7 -> 50 | W7: =J7*(H7+4) -> 2150 | X7: =W7 -> 2150 | Y7: =M7*12*2+N7*10+O7*(10+6)+P7*(12+6)+U7*20 -> 800 | AA7: =J7*2 -> 100 | AE7: =H7*J7 -> 1950 | AG7: 1 | AJ7: =M7+O7+P7 -> 50 | AK7: =N7 -> 0 | AN7: =(AG7+AH7)*2+6 -> 8 | AO7: =AN7*5 -> 40 | AP7: =W7 -> 2150 | AT7: =R7*0.25+S7*0.18+T7*0.22+U7*0.1 -> 21.5 | BC7: JE Samadrapur | BD7: 372636.52 | BE7: Yes | BF7: - | BH7: 0 | BI7: 1 | BK7: 0 | BN7: 25 | BO7: =BN7*2 -> 50 | BS7: 4
A8: 4 | C8: 71+935 | D8: 73+000 | E8: 1065 | G8: Double arm on Median GL | H8: 42 | J8: =SUM(M8:P8) -> 25 | K8: =SUM(R8:U8) -> 50 | M8: =ROUND((E8/H8),0) -> 25 | R8: =M8*2 -> 50 | W8: =J8*(H8+4) -> 1150 | X8: =W8 -> 1150 | Y8: =M8*12*2+N8*10+O8*(10+6)+P8*(12+6)+U8*20 -> 600 | AA8: =J8*2 -> 50 | AD8: =H8*J8 -> 1050 | AG8: 1 | AJ8: =M8+O8+P8 -> 25 | AK8: =N8 -> 0 | AM8: =J8 -> 25 | AN8: =(AG8+AH8)*2 -> 2 | AO8: =AN8*5 -> 10 | AP8: =AM8*2 -> 50 | AT8: =R8*0.25+S8*0.18+T8*0.22+U8*0.1 -> 12.5 | AY8: Hinganghat Division Dist. Warhda | BC8: JE Hihnanghat | BD8: 0 | BE8: Not required | BF8: - | BH8: 0 | BI8: 0 | BJ8: 0 | BK8: 0 | BL8: 0 | BM8: 0 | BN8: 25 | BO8: =BN8*2 -> 50 | BX8: 7 | BY8: HGT | CA8: 4
A9: 5 | B9: ASHTI INTERCHANGE/ KAWAD GHAT | C9: 79+650 | D9: 80+110 | E9: 460 | G9: SA FOR ELEVATED AND GR MCW & DA ON ISLAND | H9: 35 | I9: 35 | J9: =SUM(M9:P9) -> 35 | K9: =SUM(R9:U9) -> 43 | N9: 35 | R9: =N9 -> 35 | U9: 8 | W9: =J9*(H9+4) -> 1365 | X9: =W9 -> 1365 | Y9: =M9*12*2+N9*10+O9*(10+6)+P9*(12+6)+U9*20 -> 510 | AA9: =J9*2 -> 70 | AD9: =H9*J9 -> 1225 | AE9: =U9*20 -> 160 | AG9: 1 | AJ9: =M9+O9+P9 -> 0 | AK9: =N9 -> 35 | AM9: =J9 -> 35 | AN9: =(AG9+AH9)*2 -> 2 | AO9: =AN9*5 -> 10 | AP9: =AM9*2 -> 70 | AT9: =R9*0.25+S9*0.18+T9*0.22+U9*0.1 -> 9.55 | BC9: JE Alipur | BD9: 583589 | BE9: Awaited | BF9: - | BH9: 1 | BK9: 1 | BL9: 1 | BM9: 1 | BN9: 25 | BO9: =BN9*2 -> 50 | BX9: 2 | BY9: YTL
B10: ASHTI INTERCHANGE/ KAWAD GHAT | C10: 79+650 | D10: 80+110 | E10: 460 | G10: SA FOR ELEVATED AND GR MCW & DA ON ISLAND | AJ10: =M10+O10+P10 -> 0 | AK10: =N10 -> 0 | BX10: 10 | BY10: PKD | CA10: 2
B11: ASHTI INTERCHANGE/ KAWAD GHAT | G11: SA FOR ELEVATED AND GR MCW & DA ON ISLAND | AJ11: =M11+O11+P11 -> 0 | AK11: =N11 -> 0
B12: ASHTI INTERCHANGE/ KAWAD GHAT | G12: SA FOR ELEVATED AND GR MCW & DA ON ISLAND | U12: 0 | AE12: =U12*20 -> 0 | AJ12: =M12+O12+P12 -> 0 | AK12: =N12 -> 0
A13: 6 | B13: WADNER BRIDGE | C13: 93+940 | D13: 95+630 | E13: 1690 | G13: Double arm on Median GL | H13: 42 | J13: =SUM(M13:P13) -> 40 | K13: =SUM(R13:U13) -> 88 | M13: =ROUND((E13/H13),0) -> 40 | R13: =M13*2 -> 80 | U13: 8 | W13: =J13*(H13+4) -> 1840 | X13: =W13 -> 1840 | Y13: =M13*12*2+N13*10+O13*(10+6)+P13*(12+6)+U13*20 -> 1120 | AA13: =J13*2 -> 80 | AD13: =H13*J13 -> 1680 | AG13: 1 | AJ13: =M13+O13+P13 -> 40 | AK13: =N13 -> 0 | AM13: =J13 -> 40 | AN13: =(AG13+AH13)*2 -> 2 | AO13: =AN13*5 -> 10 | AP13: =AM13*2 -> 80 | AS13: 94+785 | AT13: =R13*0.25+S13*0.18+T13*0.22+U13*0.1 -> 20.8 | AZ13: 71157872 | BA13: 6465264225615 | BB13: 396051001827 | BC13: JE Wadner | BD13: 473545 | BE13: Yes | BF13: - | BJ13: 1 | BK13: 1 | BL13: 0 | BM13: 1 | BN13: 20 | BO13: =BN13*2 -> 40
B14: WADNER BRIDGE | C14: 93+940 | D14: 95+510 | E14: 1570 | G14: SA AT SR EDGE | I14: 39 | J14: =SUM(M14:P14) -> 40 | K14: =SUM(R14:U14) -> 40 | N14: =ROUND((E14/I14),0) -> 40 | R14: =M14*2+N14 -> 40 | W14: =J14*(H14+4)+N14*(I14+4) -> 1880 | X14: =W14 -> 1880 | Y14: =M14*12*2+N14*10+O14*(10+6)+P14*(12+6)+U14*20 -> 400 | AA14: =J14*2 -> 80 | AD14: =I14*J14 -> 1560 | AJ14: =M14+O14+P14 -> 0 | AK14: =N14 -> 40 | AM14: =J14 -> 40 | AN14: =(AG14+AH14)*2 -> 0 | AO14: =AN14*5 -> 0 | AP14: =AM14*2 -> 80 | AT14: =R14*0.25+S14*0.18+T14*0.22+U14*0.1 -> 10 | AZ14: 71158862 | BA14: 6780327960735 | BB14: 396051001835 | BC14: JE Wadner
B15: WADNER BRIDGE | C15: 94+000 | D15: 95+475 | E15: 1475 | G15: SA AT SR EDGE | I15: 39 | J15: =SUM(M15:P15) -> 38 | K15: =SUM(R15:U15) -> 46 | N15: =ROUND((E15/I15),0) -> 38 | R15: =M15*2+N15 -> 38 | U15: 8 | W15: =J15*(H15+4)+N15*(I15+4) -> 1786 | X15: =W15 -> 1786 | Y15: =M15*12*2+N15*10+O15*(10+6)+P15*(12+6)+U15*20 -> 540 | AA15: =J15*2 -> 76 | AD15: =I15*J15 -> 1482 | AE15: =U15*20 -> 160 | AJ15: =M15+O15+P15 -> 0 | AK15: =N15 -> 38 | AM15: =J15 -> 38 | AN15: =(AG15+AH15)*2 -> 0 | AO15: =AN15*5 -> 0 | AP15: =AM15*2 -> 76 | AT15: =R15*0.25+S15*0.18+T15*0.22+U15*0.1 -> 10.3 | AZ15: 71159686 | BA15: 3714153125019 | BB15: 396051001819 | BC15: JE Wadner
A16: 7 | B16: PIPARI FLYOVER | C16: 99+085 | D16: 100+805 | E16: 1720 | G16: Double arm on Median & SA for SR BHS | H16: 42 | I16: 39 | J16: =SUM(M16:P16) -> 129 | K16: =SUM(R16:U16) -> 178 | M16: =ROUND((E16/H16),0) -> 41 | N16: =ROUND((E16/I16),0)*2 -> 88 | R16: =M16*2+N16 -> 170 | U16: 8 | W16: =J16*(H16+4) -> 5934 | X16: =W16 -> 5934 | Y16: =M16*12*2+N16*10+O16*(10+6)+P16*(12+6)+U16*20 -> 2024 | AA16: =J16*2 -> 258 | AD16: =H16*J16 -> 5418 | AE16: =U16*20 -> 160 | AG16: 1 | AJ16: =M16+O16+P16 -> 41 | AK16: =N16 -> 88 | AM16: =J16 -> 129 | AN16: =(AG16+AH16)*2 -> 2 | AO16: =AN16*5 -> 10 | AP16: =AM16*2 -> 258 | AS16: 99+785 | AT16: =R16*0.25+S16*0.18+T16*0.22+U16*0.1 -> 43.3 | AZ16: 71160080 | BA16: 1776709085933 | BB16: 396051001801 | BC16: JE Pohna | BD16: 421683.5 | BE16: Yes | BF16: - | BJ16: 1 | BK16: 1 | BM16: 1 | BN16: 20 | BO16: =BN16*2 -> 40
A17: 8 | B17: POHANA FLYOVER | C17: 104+195 | D17: 105+775 | E17: 1580 | G17: Double arm on Median & SA for SR BHS | H17: 42 | I17: 39 | J17: =SUM(M17:P17) -> 120 | K17: =SUM(R17:U17) -> 198 | M17: =ROUND((E17/H17),0) -> 38 | N17: =ROUND((E17/I17),0)*2 -> 82 | R17: =M17*2+N17 -> 158 | U17: 40 | W17: =J17*(H17+4) -> 5520 | X17: =W17 -> 5520 | Y17: =M17*12*2+N17*10+O17*(10+6)+P17*(12+6)+U17*20 -> 2532 | AA17: =J17*2 -> 240 | AD17: =H17*J17 -> 5040 | AE17: =U17*20 -> 800 | AG17: 1 | AJ17: =M17+O17+P17 -> 38 | AK17: =N17 -> 82 | AM17: =J17 -> 120 | AN17: =(AG17+AH17)*2 -> 2 | AO17: =AN17*5 -> 10 | AP17: =AM17*2 -> 240 | AS17: 104+985 | AT17: =R17*0.25+S17*0.18+T17*0.22+U17*0.1 -> 43.5 | AZ17: 71161580 | BA17: 4994569630929 | BB17: 396051001797 | BC17: JE Pohna | BD17: 421683.5 | BE17: Yes | BF17: - | BJ17: 1 | BK17: 1 | BM17: 1 | BN17: 16 | BO17: =BN17*2 -> 32
A19: Total | BD19: =SUM(BD5:BD17) -> 2839156.2 | BH19: =SUM(BH1:BH18) -> 3 | BI19: =SUM(BI1:BI18) -> 1 | BJ19: =SUM(BJ1:BJ18) -> 3 | BK19: =SUM(BK1:BK18) -> 5 | BL19: =SUM(BL1:BL18) -> 1 | BM19: =SUM(BM1:BM18) -> 5 | BN19: =SUM(BN5:BN18) -> 167 | BO19: =SUM(BO5:BO18) -> 334
BD20: =BD19*1.43 -> 4059993.4
J22: 1322 | K22: 2134
J24: =A19-J22 -> #VALUE! | K24: =K19-K22 -> -2134

Sheet Pandhakawda
A1: R1_CGCEL_NHIT_CHAIANGE WISE BOQ BORKHEDI-WARDNER
A2: Abstract
A3: Sl.No | B3: AREA | C3: Chainage (km) | E3: Length(m) | F3: TCS No | G3: Pole Arrangement | H3: Spacing | J3: Total No.of Poles | K3: Total No.of Lights | M3: 9M DA Pole with 2M 10°tilt | N3: 9M SA Pole with 0.5M 5° tilt | O3: 9M Diff.A Pole with 0.5M 5° SA & 0.5M 5° Diff.Arm | P3: 9M Diff.A Pole with 0.5M 10° SA & 2M 15° Diff.Arm | R3: 250 WATT SL_50 | S3: 180 WATT SL_50 | T3: 220 WATT SL_50 | U3: CFS-504-100-57-60D-SL-GL-NSG | W3: TOTAL UG CABLE LENGTH | X3: 4CX16 SQ.MM AL.AR | Y3: 3CX1.5 SQ.MM CU.FLEX | AA3: 4CX16 AL.AR Terminations | AB3: 4CX10 AL.AR Terminations | AD3: SEPERATOR/ MEDIAN | AE3: CRASH BARRIER/ RE WALL | AG3: TYPE-A | AH3: TYPE-B | AJ3: 2 MCBs | AK3: 1 MCB | AM3: ROD | AN3: PIPE | AO3: FLAT | AP3: GI WIRE | AR3: Under Deck Load | AS3: Feeder Panel Location | AT3: STREET LIGHTING LOAD | AU3: TOLL PLAZA LIGHTING LOAD | AV3: TOTAL LOAD | AW3: Tentative Transformer Chainage | AX3: Transformer wise Load | AY3: Concern MSEDCL Division | AZ3: Application ID | BA3: Fee Recipt No | BB3: Consumer No | BC3: Concern JE/AE | BD3: Tentative Estimate Amount (incl. GST & Supervision Charges) | BE3: Status of sanction | BF3: Pending With | BG3: Division | BH3: 25 KVA | BI3: 63 KVA | BJ3: 100 KVA | BK3: 11 KV HT OH line | BL3: LT Line | BM3: SPCP | BN3: Length | BO3: Length Of Bore HDD Dia
C4: From | D4: to | H4: MCW | I4: SR
A5: 11 | B5: KHATARA FLYOVER | C5: 128+660 | D5: 129+245 | E5: 585 | G5: Double arm on Median & SA for SR BHS | H5: 42 | I5: 39 | J5: =SUM(M5:P5) -> 44 | K5: =SUM(R5:U5) -> 66 | M5: =ROUND((E5/H5),0) -> 14 | N5: =ROUND((E5/I5),0)*2 -> 30 | R5: =M5*2+N5 -> 58 | U5: 8 | W5: =J5*(H5+4) -> 2024 | X5: =W5 -> 2024 | Y5: =M5*12*2+N5*10+O5*(10+6)+P5*(12+6)+U5*20 -> 796 | AA5: =J5*2 -> 88 | AD5: =H5*J5 -> 1848 | AE5: =U5*20 -> 160 | AH5: 1 | AJ5: =M5+O5+P5 -> 14 | AK5: =N5 -> 30 | AM5: =J5 -> 44 | AN5: =(AG5+AH5)*2 -> 2 | AO5: =AN5*5 -> 10 | AP5: =AM5*2 -> 88 | AS5: 128+953 | AT5: =R5*0.25+S5*0.18+T5*0.22+U5*0.1 -> 15.3 | AZ5: 71162544 | BB5: 373982021261 | BC5: JE UMARI | BD5: 293363.29 | BE5: Awaited | BF5: Dy EE Pandharkawda | BG5: Pandharkawda | BH5: 1 | BN5: 24 | BO5: =BN5*2 -> 48
A6: 12 | B6: ADNI FLYOVER | C6: 129+885 | D6: 130+656 | E6: 771 | G6: Double arm on Median GL | H6: 42 | J6: =SUM(M6:P6) -> 18 | K6: =SUM(R6:U6) -> 36 | M6: =ROUND((E6/H6),0) -> 18 | R6: =M6*2 -> 36 | W6: =J6*(H6+4) -> 828 | X6: =W6 -> 828 | Y6: =M6*12*2+N6*10+O6*(10+6)+P6*(12+6)+U6*20 -> 432 | AA6: =J6*2 -> 36 | AD6: =H6*J6 -> 756 | AG6: 1 | AJ6: =M6+O6+P6 -> 18 | AK6: =N6 -> 0 | AM6: =J6 -> 18 | AN6: =(AG6+AH6)*2 -> 2 | AO6: =AN6*5 -> 10 | AP6: =AM6*2 -> 36 | AS6: 130+271 | AT6: =R6*0.25+S6*0.18+T6*0.22+U6*0.1 -> 9 | AZ6: 71164589 | BA6: 3911092644239 | BB6: 372382021252 | BC6: JE UMARI | BD6: 360028.93 | BE6: Awaited | BF6: Dy EE Pandharkawda | BI6: 1 | BK6: 1 | BN6: 24 | BO6: =BN6*2 -> 48
B7: ADNI FLYOVER | C7: 129+885 | D7: 130+656 | E7: 771 | G7: SA AT SR EDGE | I7: 39 | J7: =SUM(M7:P7) -> 20 | K7: =SUM(R7:U7) -> 20 | N7: =ROUND((E7/I7),0) -> 20 | R7: =M7*2+N7 -> 20 | W7: =J7*(H7+4)+N7*(I7+4) -> 940 | X7: =W7 -> 940 | Y7: =M7*12*2+N7*10+O7*(10+6)+P7*(12+6)+U7*20 -> 200 | AA7: =J7*2 -> 40 | AD7: =I7*J7 -> 780 | AJ7: =M7+O7+P7 -> 0 | AK7: =N7 -> 20 | AM7: =J7 -> 20 | AN7: =(AG7+AH7)*2 -> 0 | AO7: =AN7*5 -> 0 | AP7: =AM7*2 -> 40 | AT7: =R7*0.25+S7*0.18+T7*0.22+U7*0.1 -> 5 | AZ7: 71164818 | BA7: 8500728567637 | BB7: 373982021244 | BC7: JE UMARI | BE7: Awaited
B8: ADNI FLYOVER | C8: 129+885 | D8: 130+485 | E8: 600 | G8: SA AT SR EDGE | I8: 39 | J8: =SUM(M8:P8) -> 15 | K8: =SUM(R8:U8) -> 55 | N8: =ROUND((E8/I8),0) -> 15 | R8: =M8*2+N8 -> 15 | U8: 40 | W8: =J8*(H8+4)+N8*(I8+4) -> 705 | X8: =W8 -> 705 | Y8: =M8*12*2+N8*10+O8*(10+6)+P8*(12+6)+U8*20 -> 950 | AA8: =J8*2 -> 30 | AD8: =I8*J8 -> 585 | AE8: =U8*20 -> 800 | AH8: 1 | AJ8: =M8+O8+P8 -> 0 | AK8: =N8 -> 15 | AM8: =J8 -> 15 | AN8: =(AG8+AH8)*2 -> 2 | AO8: =AN8*5 -> 10 | AP8: =AM8*2 -> 30 | AS8: 130+185 | AT8: =R8*0.25+S8*0.18+T8*0.22+U8*0.1 -> 7.75 | AZ8: 71165028 | BA8: 4648434990639 | BB8: 373982021236 | BC8: JE UMARI | BE8: Awaited
A9: 13 | B9: KARANJI FLYOVER | C9: 132+105 | D9: 134+125 | E9: 2020 | G9: Diff. arm on Crash barrier | H9: 39 | J9: =SUM(M9:P9) -> 104 | K9: =SUM(R9:U9) -> 216 | O9: =ROUND((E9/H9),0)*2 -> 104 | R9: =O9 -> 104 | S9: =O9 -> 104 | U9: 8 | W9: =J9*(H9+4) -> 4472 | X9: =W9 -> 4472 | Y9: =M9*12*2+N9*10+O9*(10+6)+P9*(12+6)+U9*20 -> 1824 | AA9: =J9*2 -> 208 | AE9: =H9*J9 -> 4056 | AG9: 2 | AJ9: =M9+O9+P9 -> 104 | AK9: =N9 -> 0 | AN9: =(AG9+AH9)*2+6 -> 10 | AO9: =AN9*5 -> 50 | AP9: =W9 -> 4472 | AS9: 132+610 & 133+605 | AT9: =R9*0.25+S9*0.18+T9*0.22+U9*0.1 -> 45.52 | AZ9: 71165145 | BA9: 36211395 | BC9: JE UMARI | BD9: 390165.91 | BE9: Awaited | BF9: Dy EE Pandharkawda | BJ9: 1 | BK9: 1 | BN9: 24 | BO9: =BN9*2 -> 48
A10: 14 | B10: DHARNA FLYOVER | C10: 137+675 | D10: 138+245 | E10: 570 | G10: Double arm on Median & SA for SR BHS | H10: 42 | I10: 39 | J10: =SUM(M10:P10) -> 44 | K10: =SUM(R10:U10) -> 66 | M10: =ROUND((E10/H10),0) -> 14 | N10: =ROUND((E10/I10),0)*2 -> 30 | R10: =M10*2+N10 -> 58 | U10: 8 | W10: =J10*(H10+4) -> 2024 | X10: =W10 -> 2024 | Y10: =M10*12*2+N10*10+O10*(10+6)+P10*(12+6)+U10*20 -> 796 | AA10: =J10*2 -> 88 | AD10: =H10*J10 -> 1848 | AH10: 1 | AJ10: =M10+O10+P10 -> 14 | AK10: =N10 -> 30 | AM10: =J10 -> 44 | AN10: =(AG10+AH10)*2 -> 2 | AO10: =AN10*5 -> 10 | AP10: =AM10*2 -> 88 | AS10: 137+960 | AT10: =R10*0.25+S10*0.18+T10*0.22+U10*0.1 -> 15.3 | AY10: Pandharkawada Division Dist. Yavatmal | AZ10: 71165775 | BA10: 3068432140025 | BB10: 373982021210 | BC10: JE UMARI | BD10: 293363.29 | BE10: Awaited | BF10: Dy EE Pandharkawda | BH10: 1 | BK10: 1 | BN10: 24 | BO10: =BN10*2 -> 48
A11: 15 | B11: SAKHARA FLYOVER | C11: 138+955 | D11: 140+330 | E11: 1375 | G11: DIFF ARM FROM CB MED & SA POLE SR | H11: 36 | I11: 39 | J11: =SUM(M11:P11) -> 73 | K11: =SUM(R11:U11) -> 127 | N11: =ROUND((E11/I11),0) -> 35 | P11: =ROUND((E11/H11),0) -> 38 | R11: =P11+N11 -> 73 | T11: =P11 -> 38 | U11: 16 | W11: =J11*(H11+4) -> 2920 | X11: =W11 -> 2920 | Y11: =M11*12*2+N11*10+O11*(10+6)+P11*(12+6)+U11*20 -> 1354 | AA11: =J11*2 -> 146 | AE11: =H11*J11+(U11*20) -> 2948 | AG11: 1 | AH11: 1 | AJ11: =M11+O11+P11 -> 38 | AK11: =N11 -> 35 | AN11: =(AG11+AH11)*2+6 -> 10 | AO11: =AN11*5 -> 50 | AP11: =W11 -> 2920 | AS11: 139+643 | AT11: =R11*0.25+S11*0.18+T11*0.22+U11*0.1 -> 28.21 | AZ11: 71165925 | BA11: 4042863940113 | BB11: 373982021201 | BC11: JE UMARI | BD11: 360028.93 | BE11: Awaited | BF11: Dy EE Pandharkawda | BJ11: 1 | BK11: 1 | BN11: 24 | BO11: =BN11*2 -> 48
A12: 16 | B12: PIMPIRI FLYOVER | C12: 147+255 | D12: 149+570 | E12: 2315 | G12: Double arm on Median GL | H12: 42 | J12: =SUM(M12:P12) -> 55 | K12: =SUM(R12:U12) -> 110 | M12: =ROUND((E12/H12),0) -> 55 | R12: =M12*2 -> 110 | W12: =J12*(H12+4) -> 2530 | X12: =W12 -> 2530 | Y12: =M12*12*2+N12*10+O12*(10+6)+P12*(12+6)+U12*20 -> 1320 | AA12: =J12*2 -> 110 | AD12: =H12*J12 -> 2310 | AG12: 2 | AJ12: =M12+O12+P12 -> 55 | AK12: =N12 -> 0 | AM12: =J12 -> 55 | AN12: =(AG12+AH12)*2 -> 4 | AO12: =AN12*5 -> 20 | AP12: =AM12*2 -> 110 | AS12: 147+834 & 148+991 | AT12: =R12*0.25+S12*0.18+T12*0.22+U12*0.1 -> 27.5 | AZ12: 71166138 | BA12: 5100569318656 | BB12: 373982021198 | BC12: JE PANDHARKAWDA URBAN | BD12: 718667.65 | BE12: Awaited | BF12: Dy EE Pandharkawda | BJ12: 2 | BK12: 1 | BN12: 48 | BO12: =BN12*2 -> 96
B13: PIMPIRI FLYOVER | C13: 147+255 | D13: 149+570 | E13: 2315 | G13: SA AT SR EDGE | I13: 39 | J13: =SUM(M13:P13) -> 59 | K13: =SUM(R13:U13) -> 59 | N13: =ROUND((E13/I13),0) -> 59 | R13: =M13*2+N13 -> 59 | W13: =J13*(H13+4)+N13*(I13+4) -> 2773 | X13: =W13 -> 2773 | Y13: =M13*12*2+N13*10+O13*(10+6)+P13*(12+6)+U13*20 -> 590 | AA13: =J13*2 -> 118 | AD13: =I13*J13 -> 2301 | AJ13: =M13+O13+P13 -> 0 | AK13: =N13 -> 59 | AM13: =J13 -> 59 | AN13: =(AG13+AH13)*2 -> 0 | AO13: =AN13*5 -> 0 | AP13: =AM13*2 -> 118 | AT13: =R13*0.25+S13*0.18+T13*0.22+U13*0.1 -> 14.75 | AZ13: 71166389 | BA13: 7862020392915 | BB13: 373982021180 | BC13: JE PANDHARKAWDA URBAN | BF13: Dy EE Pandharkawda
B14: PIMPIRI FLYOVER | C14: 147+280 | D14: 149+570 | E14: 2290 | G14: SA AT SR EDGE | I14: 39 | J14: =SUM(M14:P14) -> 59 | K14: =SUM(R14:U14) -> 67 | N14: =ROUND((E14/I14),0) -> 59 | R14: =M14*2+N14 -> 59 | U14: 8 | W14: =J14*(H14+4)+N14*(I14+4) -> 2773 | X14: =W14 -> 2773 | Y14: =M14*12*2+N14*10+O14*(10+6)+P14*(12+6)+U14*20 -> 750 | AA14: =J14*2 -> 118 | AD14: =I14*J14 -> 2301 | AE14: =U14*20 -> 160 | AJ14: =M14+O14+P14 -> 0 | AK14: =N14 -> 59 | AM14: =J14 -> 59 | AN14: =(AG14+AH14)*2 -> 0 | AO14: =AN14*5 -> 0 | AP14: =AM14*2 -> 118 | AT14: =R14*0.25+S14*0.18+T14*0.22+U14*0.1 -> 15.55 | AZ14: 71166477 | BA14: 8835696882135 | BB14: 373982021171 | BC14: JE PANDHARKAWDA URBAN | BF14: Dy EE Pandharkawda
A15: 17 | B15: MARATHA-WAKADI FLYOVER | C15: 157+285 | D15: 158+110 | E15: 825 | G15: Double arm on Median GL | H15: 42 | J15: =SUM(M15:P15) -> 20 | K15: =SUM(R15:U15) -> 40 | M15: =ROUND((E15/H15),0) -> 20 | R15: =M15*2 -> 40 | W15: =J15*(H15+4) -> 920 | X15: =W15 -> 920 | Y15: =M15*12*2+N15*10+O15*(10+6)+P15*(12+6)+U15*20 -> 480 | AA15: =J15*2 -> 40 | AD15: =H15*J15 -> 840 | AG15: 1 | AJ15: =M15+O15+P15 -> 20 | AK15: =N15 -> 0 | AM15: =J15 -> 20 | AN15: =(AG15+AH15)*2 -> 2 | AO15: =AN15*5 -> 10 | AP15: =AM15*2 -> 40 | AS15: 157+698 | AT15: =R15*0.25+S15*0.18+T15*0.22+U15*0.1 -> 10 | AZ15: 71167371 | BA15: 7612215577155 | BB15: 373982021163 | BC15: JE PANDHARKAWDA RURAL | BD15: 454978.06 | BE15: Awaited | BF15: Dy EE Pandharkawda | BI15: 1 | BK15: 1 | BL15: 1 | BN15: 24 | BO15: =BN15*2 -> 48
B16: MARATHA-WAKADI FLYOVER | C16: 157+285 | D16: 158+110 | E16: 825 | G16: SA AT SR EDGE | I16: 39 | J16: =SUM(M16:P16) -> 21 | K16: =SUM(R16:U16) -> 21 | N16: =ROUND((E16/I16),0) -> 21 | R16: =M16*2+N16 -> 21 | W16: =J16*(H16+4)+N16*(I16+4) -> 987 | X16: =W16 -> 987 | Y16: =M16*12*2+N16*10+O16*(10+6)+P16*(12+6)+U16*20 -> 210 | AA16: =J16*2 -> 42 | AD16: =I16*J16 -> 819 | AJ16: =M16+O16+P16 -> 0 | AK16: =N16 -> 21 | AM16: =J16 -> 21 | AN16: =(AG16+AH16)*2 -> 0 | AO16: =AN16*5 -> 0 | AP16: =AM16*2 -> 42 | AT16: =R16*0.25+S16*0.18+T16*0.22+U16*0.1 -> 5.25 | AZ16: 71168417 | BA16: 8601700230255 | BB16: 373982021155 | BC16: JE PANDHARKAWDA RURAL | BF16: Dy EE Pandharkawda
B17: MARATHA-WAKADI FLYOVER | C17: 157+340 | D17: 158+110 | E17: 770 | G17: SA AT SR EDGE | I17: 39 | J17: =SUM(M17:P17) -> 20 | K17: =SUM(R17:U17) -> 28 | N17: =ROUND((E17/I17),0) -> 20 | R17: =M17*2+N17 -> 20 | U17: 8 | W17: =J17*(H17+4)+N17*(I17+4) -> 940 | X17: =W17 -> 940 | Y17: =M17*12*2+N17*10+O17*(10+6)+P17*(12+6)+U17*20 -> 360 | AA17: =J17*2 -> 40 | AD17: =I17*J17 -> 780 | AE17: =U17*20 -> 160 | AJ17: =M17+O17+P17 -> 0 | AK17: =N17 -> 20 | AM17: =J17 -> 20 | AN17: =(AG17+AH17)*2 -> 0 | AO17: =AN17*5 -> 0 | AP17: =AM17*2 -> 40 | AT17: =R17*0.25+S17*0.18+T17*0.22+U17*0.1 -> 5.8 | AZ17: 71168723 | BA17: 4606978019455 | BB17: 373982021147 | BC17: JE PANDHARKAWDA RURAL | BF17: Dy EE Pandharkawda
A18: 18 | B18: DHOKI BRIDGE | C18: 158+770 | D18: 159+385 | E18: 615 | G18: Double arm on Median GL | H18: 42 | J18: =SUM(M18:P18) -> 15 | K18: =SUM(R18:U18) -> 30 | M18: =ROUND((E18/H18),0) -> 15 | R18: =M18*2 -> 30 | W18: =J18*(H18+4) -> 690 | X18: =W18 -> 690 | Y18: =M18*12*2+N18*10+O18*(10+6)+P18*(12+6)+U18*20 -> 360 | AA18: =J18*2 -> 30 | AD18: =H18*J18 -> 630 | AG18: 1 | AJ18: =M18+O18+P18 -> 15 | AK18: =N18 -> 0 | AM18: =J18 -> 15 | AN18: =(AG18+AH18)*2 -> 2 | AO18: =AN18*5 -> 10 | AP18: =AM18*2 -> 30 | AS18: 159+078 | AT18: =R18*0.25+S18*0.18+T18*0.22+U18*0.1 -> 7.5 | AZ18: 71168801 | BA18: 3746673523 | BB18: 373982021139 | BC18: JE PANDHARKAWDA RURAL | BD18: 454978.06 | BE18: Awaited | BF18: Dy EE Pandharkawda | BI18: 1 | BK18: 1 | BL18: 1 | BN18: 16 | BO18: =BN18*2 -> 32
B19: DHOKI BRIDGE | C19: 158+915 | D19: 159+385 | E19: 470 | G19: SA AT SR EDGE | I19: 39 | J19: =SUM(M19:P19) -> 12 | K19: =SUM(R19:U19) -> 12 | N19: =ROUND((E19/I19),0) -> 12 | R19: =M19*2+N19 -> 12 | W19: =J19*(H19+4)+N19*(I19+4) -> 564 | X19: =W19 -> 564 | Y19: =M19*12*2+N19*10+O19*(10+6)+P19*(12+6)+U19*20 -> 120 | AA19: =J19*2 -> 24 | AD19: =I19*J19 -> 468 | AJ19: =M19+O19+P19 -> 0 | AK19: =N19 -> 12 | AM19: =J19 -> 12 | AN19: =(AG19+AH19)*2 -> 0 | AO19: =AN19*5 -> 0 | AP19: =AM19*2 -> 24 | AT19: =R19*0.25+S19*0.18+T19*0.22+U19*0.1 -> 3 | AZ19: 71168998 | BA19: 8034355837833 | BB19: 373982021121 | BC19: JE PANDHARKAWDA RURAL | BF19: Dy EE Pandharkawda
B20: DHOKI BRIDGE | C20: 158+770 | D20: 159+385 | E20: 615 | G20: SA AT SR EDGE | I20: 39 | J20: =SUM(M20:P20) -> 16 | K20: =SUM(R20:U20) -> 64 | N20: =ROUND((E20/I20),0) -> 16 | R20: =M20*2+N20 -> 16 | U20: 48 | W20: =J20*(H20+4)+N20*(I20+4) -> 752 | X20: =W20 -> 752 | Y20: =M20*12*2+N20*10+O20*(10+6)+P20*(12+6)+U20*20 -> 1120 | AA20: =J20*2 -> 32 | AD20: =I20*J20 -> 624 | AE20: =U20*20 -> 960 | AH20: 1 | AJ20: =M20+O20+P20 -> 0 | AK20: =N20 -> 16 | AM20: =J20 -> 16 | AN20: =(AG20+AH20)*2 -> 2 | AO20: =AN20*5 -> 10 | AP20: =AM20*2 -> 32 | AS20: 159+078 | AT20: =R20*0.25+S20*0.18+T20*0.22+U20*0.1 -> 8.8 | AZ20: 71169049 | BA20: 9956441227819 | BB20: 373982021112 | BC20: JE PANDHARKAWDA RURAL | BF20: Dy EE Pandharkawda
A21: 19 | B21: PATAN BORI FLYOVER | C21: 169+160 | D21: 170+430 | E21: 1270 | G21: Double arm on Median GL | H21: 42 | J21: =SUM(M21:P21) -> 30 | K21: =SUM(R21:U21) -> 60 | M21: =ROUND((E21/H21),0) -> 30 | R21: =M21*2 -> 60 | W21: =J21*(H21+4) -> 1380 | X21: =W21 -> 1380 | Y21: =M21*12*2+N21*10+O21*(10+6)+P21*(12+6)+U21*20 -> 720 | AA21: =J21*2 -> 60 | AD21: =H21*J21 -> 1260 | AG21: 1 | AJ21: =M21+O21+P21 -> 30 | AK21: =N21 -> 0 | AM21: =J21 -> 30 | AN21: =(AG21+AH21)*2 -> 2 | AO21: =AN21*5 -> 10 | AP21: =AM21*2 -> 60 | AS21: 169+795 | AT21: =R21*0.25+S21*0.18+T21*0.22+U21*0.1 -> 15 | AZ21: 71169158 | BA21: 3854888982713 | BB21: 373982021007 | BC21: JE PATANBORI | BD21: 324254.92 | BE21: Awaited | BF21: Dy EE Pandharkawda | BI21: 1 | BK21: 1 | BN21: 20 | BO21: =BN21*2 -> 40
B22: PATAN BORI FLYOVER | C22: 169+160 | D22: 170+430 | E22: 1270 | G22: SA AT SR EDGE | I22: 39 | J22: =SUM(M22:P22) -> 33 | K22: =SUM(R22:U22) -> 33 | N22: =ROUND((E22/I22),0) -> 33 | R22: =M22*2+N22 -> 33 | W22: =J22*(H22+4)+N22*(I22+4) -> 1551 | X22: =W22 -> 1551 | Y22: =M22*12*2+N22*10+O22*(10+6)+P22*(12+6)+U22*20 -> 330 | AA22: =J22*2 -> 66 | AD22: =I22*J22 -> 1287 | AG22: 1 | AJ22: =M22+O22+P22 -> 0 | AK22: =N22 -> 33 | AM22: =J22 -> 33 | AN22: =(AG22+AH22)*2 -> 2 | AO22: =AN22*5 -> 10 | AP22: =AM22*2 -> 66 | AS22: 169+795 | AT22: =R22*0.25+S22*0.18+T22*0.22+U22*0.1 -> 8.25 | AZ22: 71169218 | BA22: 4096298725155 | BB22: 373981920491 | BC22: JE PATANBORI | BF22: Dy EE Pandharkawda
B23: PATAN BORI FLYOVER | C23: 169+160 | D23: 170+395 | E23: 1235 | G23: SA AT SR EDGE | I23: 39 | J23: =SUM(M23:P23) -> 32 | K23: =SUM(R23:U23) -> 32 | N23: =ROUND((E23/I23),0) -> 32 | R23: =M23*2+N23 -> 32 | W23: =J23*(H23+4)+N23*(I23+4) -> 1504 | X23: =W23 -> 1504 | Y23: =M23*12*2+N23*10+O23*(10+6)+P23*(12+6)+U23*20 -> 320 | AA23: =J23*2 -> 64 | AD23: =I23*J23 -> 1248 | AG23: 1 | AJ23: =M23+O23+P23 -> 0 | AK23: =N23 -> 32 | AM23: =J23 -> 32 | AN23: =(AG23+AH23)*2 -> 2 | AO23: =AN23*5 -> 10 | AP23: =AM23*2 -> 64 | AS23: 169+778 | AT23: =R23*0.25+S23*0.18+T23*0.22+U23*0.1 -> 8 | BF23: Dy EE Pandharkawda
A24: 20 | B24: SCOPE END | C24: 174+725 | D24: 175+000 | E24: 275 | G24: DA MED & SA FOR BUS BAY | H24: 42 | J24: =SUM(M24:P24) -> 13 | K24: =SUM(R24:U24) -> 20 | M24: =ROUND((E24/H24),0) -> 7 | N24: 6 | R24: =M24*2 -> 14 | T24: =N24 -> 6 | W24: =J24*(H24+4) -> 598 | X24: =W24 -> 598 | Y24: =M24*12*2+N24*10+O24*(10+6)+P24*(12+6)+U24*20 -> 228 | AA24: =J24*2 -> 26 | AD24: =H24*J24 -> 546 | AH24: 1 | AJ24: =M24+O24+P24 -> 7 | AK24: =N24 -> 6 | AM24: =J24 -> 13 | AN24: =(AG24+AH24)*2 -> 2 | AO24: =AN24*5 -> 10 | AP24: =AM24*2 -> 26 | AS24: 174+863 | AT24: =R24*0.25+S24*0.18+T24*0.22+U24*0.1 -> 4.82 | BD24: 244519.97 | BE24: Awaited | BF24: Dy EE Pandharkawda | BH24: 1 | BK24: 1 | BN24: 24 | BO24: =BN24*2 -> 48
A26: Total | BD26: =SUM(BD5:BD24) -> 3894349 | BH26: =SUM(BH1:BH25) -> 3 | BI26: =SUM(BI1:BI25) -> 4 | BJ26: =SUM(BJ1:BJ25) -> 4 | BK26: =SUM(BK1:BK25) -> 9 | BL26: =SUM(BL1:BL25) -> 2 | BM26: =SUM(BM1:BM25) -> 0 | BN26: =SUM(BN5:BN25) -> 252 | BO26: =SUM(BO5:BO25) -> 504
BD27: =BD26*1.43 -> 5568919.1
J29: 1322 | K29: 2134
J31: =A26-J29 -> #VALUE! | K31: =K26-K29 -> -2134

Sheet Yavatmal
A1: R1_CGCEL_NHIT_CHAIANGE WISE BOQ BORKHEDI-WARDNER
A2: Abstract
A3: Sl.No | B3: AREA | C3: Chainage (km) | E3: Length(m) | F3: TCS No | G3: Pole Arrangement | H3: Spacing | J3: Total No.of Poles | K3: Total No.of Lights | M3: 9M DA Pole with 2M 10°tilt | N3: 9M SA Pole with 0.5M 5° tilt | O3: 9M Diff.A Pole with 0.5M 5° SA & 0.5M 5° Diff.Arm | P3: 9M Diff.A Pole with 0.5M 10° SA & 2M 15° Diff.Arm | R3: 250 WATT SL_50 | S3: 180 WATT SL_50 | T3: 220 WATT SL_50 | U3: CFS-504-100-57-60D-SL-GL-NSG | W3: TOTAL UG CABLE LENGTH | X3: 4CX16 SQ.MM AL.AR | Y3: 3CX1.5 SQ.MM CU.FLEX | AA3: 4CX16 AL.AR Terminations | AB3: 4CX10 AL.AR Terminations | AD3: SEPERATOR/ MEDIAN | AE3: CRASH BARRIER/ RE WALL | AG3: TYPE-A | AH3: TYPE-B | AJ3: 2 MCBs | AK3: 1 MCB | AM3: ROD | AN3: PIPE | AO3: FLAT | AP3: GI WIRE | AR3: Under Deck Load | AS3: Feeder Panel Location | AT3: STREET LIGHTING LOAD | AU3: TOLL PLAZA LIGHTING LOAD | AV3: TOTAL LOAD | AW3: Tentative Transformer Chainage | AX3: Transformer wise Load | AY3: Concern MSEDCL Division | AZ3: Application ID | BA3: Fee Recipt No | BB3: Consumer No | BC3: Concern JE/AE | BD3: Tentative Estimate Amount (incl. GST & Supervision Charges) | BE3: Status of sanction | BF3: Pending With | BG3: Division | BH3: 25 KVA | BI3: 63 KVA | BJ3: 100 KVA | BK3: 11 KV HT OH line | BL3: LT Line | BM3: SPCP | BN3: Length | BO3: Length Of Bore HDD Dia
C4: From | D4: to | H4: MCW | I4: SR
A5: 9 | B5: WADKI FLYOVER | C5: 112+305 | D5: 113+935 | E5: 1630 | G5: Diff. arm on Crash barrier | H5: 39 | J5: =SUM(M5:P5) -> 84 | K5: =SUM(R5:U5) -> 176 | O5: =ROUND((E5/H5),0)*2 -> 84 | R5: =O5 -> 84 | S5: =O5 -> 84 | U5: 8 | W5: =J5*(H5+4) -> 3612 | X5: =W5 -> 3612 | Y5: =M5*12*2+N5*10+O5*(10+6)+P5*(12+6)+U5*20 -> 1504 | AA5: =J5*2 -> 168 | AE5: =H5*J5+(U5*20) -> 3436 | AG5: 1 | AJ5: =M5+O5+P5 -> 84 | AK5: =N5 -> 0 | AN5: =(AG5+AH5)*2+6 -> 8 | AO5: =AN5*5 -> 40 | AP5: =W5 -> 3612 | AS5: 113+120 | AT5: =R5*0.25+S5*0.18+T5*0.22+U5*0.1 -> 36.92 | AY5: Yavatmal Division Dist. Yavatmal | AZ5: 72033918 | BA5: 3704100595 | BB5: 3168446589532 | BC5: JE Wadki | BD5: 363308.13 | BE5: Awaited | BF5: EE YTL | BG5: Yavatmal | BI5: 1 | BK5: 1 | BN5: 24 | BO5: =BN5*2 -> 48
A6: 10 | B6: BORI FLYOVER | C6: 114+955 | D6: 116+250 | E6: 1295 | G6: Double arm on Median & SA for SR BHS | H6: 42 | I6: 39 | J6: =SUM(M6:P6) -> 97 | K6: =SUM(R6:U6) -> 136 | M6: =ROUND((E6/H6),0) -> 31 | N6: =ROUND((E6/I6),0)*2 -> 66 | R6: =M6*2+N6 -> 128 | U6: 8 | W6: =J6*(H6+4) -> 4462 | X6: =W6 -> 4462 | Y6: =M6*12*2+N6*10+O6*(10+6)+P6*(12+6)+U6*20 -> 1564 | AA6: =J6*2 -> 194 | AD6: =H6*J6 -> 4074 | AE6: =U6*20 -> 160 | AG6: 1 | AJ6: =M6+O6+P6 -> 31 | AK6: =N6 -> 66 | AM6: =J6 -> 97 | AN6: =(AG6+AH6)*2 -> 2 | AO6: =AN6*5 -> 10 | AP6: =AM6*2 -> 194 | AS6: 115+603 | AT6: =R6*0.25+S6*0.18+T6*0.22+U6*0.1 -> 32.8 | AZ6: 72036970 | BA6: 375690009645 | BB6: 375690009645 | BC6: JE Wadki | BD6: 360028.93 | BE6: Awaited | BF6: EE YTL | BI6: 1 | BK6: 1 | BN6: 24 | BO6: =BN6*2 -> 48
A8: Total | BD8: =SUM(BD5:BD6) -> 723337.06 | BH8: =SUM(BH1:BH7) -> 0 | BI8: =SUM(BI1:BI7) -> 2 | BJ8: =SUM(BJ1:BJ7) -> 0 | BK8: =SUM(BK1:BK7) -> 2 | BL8: =SUM(BL1:BL7) -> 0 | BM8: =SUM(BM1:BM7) -> 0 | BN8: =SUM(BN5:BN7) -> 48 | BO8: =SUM(BO5:BO7) -> 96
BD9: =BD8*1.43 -> 1034372
J11: 1322 | K11: 2134
J13: =A8-J11 -> #VALUE! | K13: =K8-K11 -> -2134

Sheet MARATHA-WAKADI Material Cost
A1: Erection of 11 KV Line on RSJ Pole 10 Mtr.
A2: S.N. | B2: Description of Material | C2: Unit | D2: QTY | E2: RT/U. Rs. | F2: Amt. Rs.
A3: 1 | B3: PSC Pole 8 Mtr (140 KG) | C3: No. | D3: 0 | E3: 2178 | F3: 0
A4: 2 | B4: PSC Pole 9 Mtr (200 KG) | C4: No. | D4: 0 | E4: 2983 | F4: 0
A5: 3 | B5: RSJ 116×100, 9 m Long | C5: No. | D5: 0 | E5: 12493 | F5: 0
A6: 4 | B6: RSJ 116×100, 10 m Long | C6: No. | D6: 2 | E6: 13882 | F6: 27764
A7: 5 | B7: 11 kV Guarding Channel MS 75×40 | C7: Kg. | D7: 0 | E7: 70 | F7: 0
A8: 6 | B8: M.S. Channel 75×40×6 mm | C8: Kg. | D8: 0 | E8: 70 | F8: 0
A9: 7 | B9: MS Angle 50×50×6 mm | C9: Kg. | D9: 0 | E9: 70 | F9: 0
A10: 8 | B10: 11 kV V Cross Arm with Clamp | C10: No. | D10: 2 | E10: 863 | F10: 1726
A11: 9 | B11: 11 kV Top Fitting with Clamp | C11: No. | D11: 2 | E11: 123 | F11: 246
A12: 10 | B12: M.S. Flats (50 × 10 mm) | C12: Kg. | D12: 5 | E12: 65 | F12: 325
A13: 11 | B13: 11 kV Pin Insulators with G.I. Pins | C13: No. | D13: 6 | E13: 120 | F13: 720
A14: 12 | B14: Disc Insulator 11 kV, 7000 Kg | C14: No. | D14: 0 | E14: 326 | F14: 0
... A31: 29 | B31: DOG To DOG | C31: No. | D31: 0 | E31: 131 | F31: 0
B32: Cost of Material | F32: =SUM(F3:F31) -> 56707.32
A35: Erection of 11/0.4 KV 63 KVA DTC
A36: S.N. | B36: Description of Material | C36: Unit | D36: QTY | E36: RT/U.Rs. | F36: Amt Rs.
A37: 1 | B37: PSC Pole 8 Mtr (140 KG) | C37: No. | D37: 0 | E37: 2178 | F37: =D37*E37 -> 0
A38: 2 | B38: RSJ 125x70, 8 m long | C38: No. | D38: 2 | E38: 6322 | F38: =D38*E38 -> 12644
A39: 3 | B39: RSJ 125x70, 9 m long | C39: No. | D39: 0 | E39: 7112 | F39: =D39*E39 -> 0
A40: 4 | B40: AAAC 55 mm2 | C40: Rmt | D40: 372 | E40: 36 | F40: =D40*E40 -> 13392
A41: 5 | B41: ACSR Weasel | C41: Rmt | D41: 132 | E41: 24 | F41: =D41*E41 -> 3168
A42: 6 | B42: MS Angle 50x50x6 mm | C42: Kg | D42: 10 | E42: 70 | F42: =D42*E42 -> 700
A43: 7 | B43: M.S. Flats (50x6 mm) | C43: Kg | D43: 4.8 | E43: 65 | F43: 312
A44: 8 | B44: LT Shackle Insulator | C44: No. | D44: 12 | E44: 15 | F44: =D44*E44 -> 180
A45: 9 | B45: Aluminium Bobbins for neutral | C45: No. | D45: 3 | E45: 41 | F45: =D45*E45 -> 123
A46: 10 | B46: L.T. Shackle Hardware | C46: Pair | D46: 15 | E46: 50 | F46: =D46*E46 -> 750
A47: 11 | B47: Jointing Sleeves for AAC | C47: No. | D47: 1 | E47: 43 | F47: =D47*E47 -> 43
A48: 12 | B48: PG Clamp | C48: No. | D48: 1 | E48: 31 | F48: =D48*E48 -> 31
A49: 13 | B49: Earthing Sets L.T. | C49: Set | D49: 1 | E49: 224 | F49: =D49*E49 -> 224
A50: 14 | B50: L.T. Stay Sets | C50: Set | D50: 1 | E50: 637 | F50: =D50*E50 -> 637
A51: 15 | B51: G.I. Stay Wire 7/3.15mm (10SWG) | C51: Kg | D51: 9 | E51: 72 | F51: =D51*E51 -> 648
A52: 16 | B52: Stay Insulators | C52: No. | D52: 1 | E52: 15 | F52: =D52*E52 -> 15
A53: 17 | B53: Binding Wire | C53: Kg | D53: 0.216 | E53: 85 | F53: =D53*E53 -> 18.36
A54: 18 | B54: Binding Tape | C54: Kg | D54: 0.216 | E54: 60 | F54: =D54*E54 -> 12.96
A55: 19 | B55: G.I. Wire 8 SWG / 6 SWG | C55: Kg | D55: 1.2 | E55: 72 | F55: =D55*E55 -> 86.4
... A62: 26 | B62: Sundries | C62: LS | D62: 0.12 | E62: 886 | F62: =D62*E62 -> 106.32
E63: Cost of Material | F63: =SUM(F37:F62) -> 41385.44
A66: S.N. | B66: Description of Material | C66: Unit | D66: QTY | E66: RT/U. Rs. | F66: Amt. Rs.
...

Sheet km 79 Kawalgat asthi interchang
A1: Sr No | B1: Description | C1: Qty | D1: Unit | E1: Rate | F1: Amount
A2: 1 | B2: 25 KVA 11/0.433 KV Dist. Transformer | C2: 1 | D2: Nos | E2: 209520 | F2: =C2*E2 -> 209520
A3: 2 | B3: 11 KV O/H Line | C3: 0.3 | D3: Kms | E3: As Per Sheet | F3: 68857.4
A4: 3 | B4: LT Line 3PH 4W | C4: 1 | D4: Kms | E4: As Per Sheet | F4: 3260.85
A5: 4 | B5: SPCP | C5: 1 | D5: Nos | E5: 34741 | F5: =C5*E5 -> 34741
A6: A | B6: Cost of Material | F6: =SUM(F2:F5) -> 316379.25
A7: B | B7: Erection on Material | E7: 15% | F7: =F6*15% -> 47456.887
A8: C | B8: Contractor Supervision Charges | E8: 5% | F8: =F6*5% -> 15818.963
A9: D | B9: TOTAL-I | E9: A+B+C | F9: =F6+F7+F8 -> 379655.1
A10: E | B10: Contractor Profit | E10: 5% | F10: =F9*5% -> 18982.755
A11: F | B11: TOTAL-II | E11: D+E | F11: =F9+F10 -> 398637.86
A12: G | B12: Transportation on material | E12: 4% | F12: =F6*4% -> 12655.17
A13: H | B13: Contingencies on material | E13: 2% | F13: =F6*2% -> 6327.585
A14: I | B14: T & P on material | E14: 1% | F14: =F6*1% -> 3163.7925
A15: J | B15: TOTAL-III | E15: F+G+H+I | F15: =SUM(F11:F14) -> 420784.4
A16: K | B16: BG Charges | E16: 0.20% | F16: =F15*0.2% -> 841.56881
A17: L | B17: TOTAL-IV | E17: J+K | F17: =F15+F16 -> 421625.97
A18: M | B18: Labour Cess | E18: 1% | F18: =F17*1% -> 4216.2597
A19: N | B19: Insurance | E19: 1% | F19: =F17*1% -> 4216.2597
A20: O | B20: TOTAL-V | E20: L+M+N | F20: =SUM(F17:F19) -> 430058.49
A21: P | B21: GST | E21: 18% | F21: =F20*18% -> 77410.528
A22: Q | B22: TOTAL-VI | E22: O+Q | F22: =F20+F21 -> 507469.02
A23: R | B23: H/O Supervision | E23: 15% | F23: =F22*15% -> 76120.353
B24: Total Cost of Estimate | F24: =F22+F23 -> 583589.37

Sheet Wadner Bridge
A2: Estimate for providing power supply to 01 no of street light connection (41.1KW) in r/o M/s NHAI PIU Chandrapur at Wadner bridge NH 44 Wadner Tah-Hinganghat, Dist-Wardha.
A4: Sr No | B4: Particulars | C4: Qty | D4: Unit | E4: Rate | F4: Material Cost
A5: 1 | B5: LT LINE 3 ph 5 W. | D5: Kms.
A6: 2 | B6: LT XLPE Arm. Cable U/G 3.5 C x120 mm2 Cable | D6: Nos.
A7: 3 | B7: road | D7: Kms.
A8: 4 | B8: LT Double Pole Cut Point on 116 X 100 mm RSJ | D8: Nos.
A9: 5 | B9: Cost of Erection of HT Feeder Pillars | D9: Nos.
A10: 6 | B10: 11 KV HT OH Line with AAAC 55 mm2 | D10: Kms. | E10: As Per Sheet | F10: ='Wadner Bridge Material Cost'!F29 -> 10056
A11: 7 | B11: 11 KV 3C X 300 mm2 XLPE U/G Cable | D11: No.
A12: 8 | B12: 11 KV 3C X 185 mm2 XLPE U/G Cable along the road | D12: Kms.
A13: 9 | B13: 11 KV Double Pole Structure | D13: No.
A14: 10 | B14: 11 KV Single Pole cut point | C14: 1 | D14: No. | E14: ='Wadner Bridge Material Cost'!F49 -> 48017 | F14: =C14*E14 -> 48017
A15: 11 | B15: 11 KV AB Switch | D15: No.
A16: 12 | B16: 33 KV HT OH Line with AAAC 100 mm2 | D16: Kms.
A17: 13 | B17: 33 KV 3C X 300 mm2 XLPE U/G Cable with HDD | D17: Nos.
A18: 14 | B18: Cost of Single phase SC through junction box | D18: No.
A19: 15 | B19: Cost of Erection of 33 KV Double Pole Structure | D19: Nos.
A20: 16 | B20: 100 KVA Dist. Transformer | C20: 1 | D20: No. | E20: ='Wadner Bridge Material Cost'!F76 -> 286414 | F20: =C20*E20 -> 286414
A21: 17 | B21: 200 KVA Dist. Transformer | D21: No. | F21: 0
A22: 18 | B22: Cost of Erection of LT mini Feeder Pillars
A23: A | B23: Cost of material | F23: =SUM(F5:F22) -> 344487
A24: B | B24: Erection Cost on Material | E24: 0.15 | F24: =F23*E24 -> 51673.05
A25: C | B25: Labour Charges for dismantling | F25: 0
A26: D | B26: TOTAL-I | E26: A+B+C | F26: =F23+F24+F25 -> 396160.05
A27: E | B27: GST on Material Cost and Services | E27: 0.18 | F27: =F26*18% -> 71308.809
A28: F | B28: TOTAL ESTIMATE COST | E28: D+E | F28: =F26+F27 -> 467468.86
A29: G | B29: H.O. Supervision charges | E29: 0.013 | F29: =F26*1.3% -> 5150.0806
A30: H | B30: GST on H.O. Supervision charges | E30: 0.18 | F30: =F29*18% -> 927.01452
A31: I | B31: 1.3% Normative charges including GST | F31: =F29+F30 -> 6077.0952
A32: J | B32: Total Estimated Cost including Normative charges | F32: =F28+F31 -> 473545.95

Sheet Wadner Bridge Material Cost
A2: HT Line
A3: Sr. No. | B3: Description of Material | C3: Unit | D3: Qty. | E3: RT/U (Rs.) | F3: Amount (Rs.)
A4: 1 | B4: PSCJ 116×100, 11 m long | C4: No. | D4: 0 | E4: 15270 | F4: 0
A5: 2 | B5: PSCJ 116×100, 9 m long for stud | C5: Kg. | D5: 0 | E5: 12493 | F5: 0
A6: 3 | B6: 11 kV guarding channel MS 75×40 | C6: Kg. | D6: 15 | E6: 70 | F6: 1050
A7: 4 | B7: 11 kV V cross arm with clamp | C7: No. | D7: 0 | E7: 863 | F7: 0
A8: 5 | B8: 11 kV Top fitting with clamp | C8: No. | D8: 0 | E8: 123 | F8: 0
A9: 6 | B9: MS angle 50×50×6 mm | C9: Kg. | D9: 0 | E9: 70 | F9: 0
A10: 7 | B10: M.S. Flats (50 × 10 mm) | C10: Kg. | D10: 0 | E10: 65 | F10: 0
A11: 8 | B11: G.I. Nut Bolts | C11: Kg. | D11: 5 | E11: 112 | F11: 560
A12: 9 | B12: 11 kV Pin Insulators with G.I. Pins | C12: No. | D12: 0 | E12: 120 | F12: 0
A13: 10 | B13: Disc Insulator 11 kV 70 KN | C13: No. | D13: 0 | E13: 326 | F13: 0
A14: 11 | B14: Strain Hardware for 55 Sq.mm AAAC | C14: Set | D14: 0 | E14: 175 | F14: 0
A15: 12 | B15: AAAC 55 mm² | C15: Rmt | D15: 180 | E15: 36 | F15: 6480
... A25: 22 | B25: Sundries | C25: LS | D25: 1 | E25: 886 | F25: 886
A26: 23 | B26: Minor Fabrication, binding tape, wire, etc. | C26: 0 | D26: 0 | E26: 0 | F26: 0
A27: 24 | B27: Wedge connectors | C27: 0 | D27: 0 | E27: 0 | F27: 0
A28: a) | B28: PARENT to PARENT or equivalent AAAC | C28: No. | D28: 0 | E28: 131.23 | F28: 0
B29: Cost of Material | F29: =SUM(F4:F28) -> 10056
A31: SINGLE POLE CUT POINT STRUCTURE FOR 11 KV LINE ON RSJ 9 M POLE
A32: S.N. | B32: Description of Material | C32: Unit | D32: Qty. | E32: RT/U Rs. | F32: Amount (Rs.)
A33: 1 | B33: RSJ 116×100, 11 m long | C33: No. | D33: 1 | E33: 15270 | F33: 15270
A34: 2 | B34: M.S. Channel 75×40×6 mm | C34: Kg. | D34: 40 | E34: 70 | F34: 2800
A35: 3 | B35: MS Angle 50×50×6 mm | C35: Kg. | D35: 25 | E35: 70 | F35: 1750
A36: 4 | B36: Strain Hardware for Dog 0.1 or Equivalent AAAC | C36: No. | D36: 6 | E36: 370 | F36: 2220
A37: 5 | B37: Disc Insulator 11 KV 70 KN | C37: No. | D37: 6 | E37: 326 | F37: 1956
A38: 6 | B38: H.T. Stay Set | C38: No. | D38: 0 | E38: 807 | F38: 0
A39: 7 | B39: RSJ 116×100, 11 m long for Stud | C39: No. | D39: 1 | E39: 15270 | F39: 15270
A40: 8 | B40: Earthing Sets H.T. | C40: No. | D40: 1 | E40: 462 | F40: 462
A41: 9 | B41: G.I. Wire 8 SWG / 6 SWG | C41: Kg. | D41: 2 | E41: 72 | F41: 144
A42: 10 | B42: G.I. Barbed Wire "A" Type | C42: Kg. | D42: 2 | E42: 80 | F42: 160
A43: 11 | B43: Danger Board in Yard | C43: No. | D43: 1 | E43: 87 | F43: 87
A44: 12 | B44: Black Bituminous Paint | C44: Ltr. | D44: 0.5 | E44: 150 | F44: 75
... A48: 16 | B48: Sundries | C48: LS | D48: 1 | E48: 885 | F48: 885
B49: Cost of Material | F49: =SUM(F33:F48) -> 48017
A52: POLE MOUNTED DISTRIBUTION TRANSFORMER SUB-STATION – 100 KVA, 11/0.433 KV ON 11 m RSJ POLE
A53: S.N. | B53: Description of Material | C53: Unit | D53: Qty. | E53: RT/U Rs. | F53: Amount (Rs.)
A54: 1 | B54: Dist. Transformer 100 KVA, 11/0.43 kV | C54: No. | D54: 1 | E54: 143782 | F54: 143782
A55: 2 | B55: RSJ 116×100, 11 m long | C55: No. | D55: 2 | E55: 15270 | F55: 30540
A56: 3 | B56: MS Channel 100×50×6 mm | C56: Kg. | D56: 100 | E56: 70 | F56: 7000
...

Sheet Pipri Estimate
A2: Estimate for providing power supply to 01 no of street light connection (43.3KW) in r/o M/s NHAI PIU Chandrapur at Pipri Tah-Hinganghat, Dist-Wardha.
A4: Sr No | B4: Particulars | C4: Qty | D4: Unit | E4: Rate | F4: Material Cost
A5: 1 | B5: 11 KV HT OH Line with AAAC 55 mm2 | D5: Kms. | E5: As Per Sheet | F5: ='Pipri Material cost'!F30 -> 10056
A6: 2 | B6: 11 KV Single Pole cut point | C6: 1 | D6: No. | E6: 35801 | F6: ='Pipri Material cost'!F51 -> 35801
A7: 3 | B7: 100 KVA Dist. Transformer | C7: 1 | D7: No. | E7: 260902 | F7: ='Pipri Material cost'!F77 -> 260902
A8: A | B8: Cost of material | F8: =SUM(F5:F7) -> 306759
A9: B | B9: Erection Cost on Material | E9: 15% | F9: =F8*15% -> 46013.85
A10: C | B10: Labour Charges for dismantling | E10: As Per Sheet
A11: D | B11: TOTAL-I | E11: A+B+C | F11: =F8+F9+F10 -> 352772.85
A12: E | B12: GST on Material Cost and Services | E12: 18% | F12: =F11*18% -> 63499.113
A13: F | B13: TOTAL ESTIMATE COST | F13: =F11+F12 -> 416271.96
A14: G | B14: H.O. Supervision charges | E14: 1.3% | F14: =F11*1.3% -> 4586.0471
A15: H | B15: GST on H.O. Supervision charges | E15: 18% | F15: =F14*18% -> 825.48847
A16: I | B16: 1.3% Normative charges including GST | F16: =F14+F15 -> 5411.5355
A17: J | B17: Total Estimated Cost including Normative charges | F17: =F13+F16 -> 421683.5

Sheet Pipri Material cost
A2: Cost data for 11 KV Single Circuit Pin Type with 55 sq.mm AAAC Lines on 9 m PSC Poles
A3: A) HT Line
A4: Sr. No. | B4: Description of Material | C4: Unit | D4: Qty. | E4: RT/U Rs. | F4: Amount (Rs.)
A5: 1 | B5: RSJ 116×100, 11 m long | C5: No. | D5: 0 | E5: 15270 | F5: 0
A6: 2 | B6: RSJ 116×100, 9 m long for Stud | C6: Kg. | D6: 0 | E6: 12493 | F6: 0
A7: 3 | B7: 11 kV Guarding Channel MS 75×40 | C7: Kg. | D7: 15 | E7: 70 | F7: 1050
A8: 4 | B8: 11 kV V Cross Arm with Clamp | C8: No. | D8: 0 | E8: 863 | F8: 0
A9: 5 | B9: 11 kV Top Fitting with Clamp | C9: No. | D9: 0 | E9: 123 | F9: 0
A10: 6 | B10: MS Angle 50×50×6 mm | C10: Kg. | D10: 0 | E10: 70 | F10: 0
A11: 7 | B11: M.S. Flats (50 × 10 mm) | C11: Kg. | D11: 0 | E11: 65 | F11: 0
A12: 8 | B12: G.I. Nut Bolts | C12: Kg. | D12: 5 | E12: 112 | F12: 560
A13: 9 | B13: 11 kV Pin Insulators with G.I. Pins | C13: No. | D13: 0 | E13: 120 | F13: 0
A14: 10 | B14: Disc Insulator 11 kV 70 KN | C14: No. | D14: 0 | E14: 326 | F14: 0
A15: 11 | B15: Strain Hardware for 55 Sq.mm AAAC | C15: Set | D15: 0 | E15: 175 | F15: 0
A16: 12 | B16: AAAC 55 mm² | C16: Rmt | D16: 180 | E16: 36 | F16: 6480
... A26: 22 | B26: Sundries | C26: LS | D26: 1 | E26: 886 | F26: 886
A27: 23 | B27: Minor Fabrication, Binding Tape, Wire, etc. | C27: 0 | D27: 0 | E27: 0 | F27: 0
A28: 24 | B28: Wedge Connectors | C28: 0 | D28: 0 | E28: 0 | F28: 0
A29: a) | B29: RABIT to RABIT or Equivalent AAAC | C29: No. | D29: 0 | E29: 131.23 | F29: 0
B30: Cost of Material | F30: =SUM(F5:F29) -> 10056
A33: SINGLE POLE CUT POINT STRUCTURE FOR 11 KV LINE ON RSJ 9 M POLE
A34: S.N. | B34: Description of Material | C34: Unit | D34: Qty. | E34: RT/U Rs. | F34: Amount (Rs.)
A35: 1 | B35: RSJ 116×100, 11 m long | C35: No. | D35: 1 | E35: 15270 | F35: 15270
A36: 2 | B36: M.S. Channel 75×40×6 mm | C36: Kg. | D36: 40 | E36: 70 | F36: 2800
A37: 3 | B37: MS Angle 50×50×6 mm | C37: Kg. | D37: 25 | E37: 70 | F37: 1750
A38: 4 | B38: Strain Hardware for Dog 0.1 or Equivalent AAAC | C38: No. | D38: 6 | E38: 370 | F38: 2220
A39: 5 | B39: Disc Insulator 11 kV 70 KN | C39: No. | D39: 6 | E39: 326 | F39: 1956
A40: 6 | B40: H.T. Stay Set | C40: No. | D40: 2 | E40: 807 | F40: 1614
A41: 7 | B41: G.I. Stay Wire 7/4 mm (8 SWG) | C41: Kg. | D41: 20 | E41: 72 | F41: 1440
A42: 8 | B42: Earthing Sets H.T. | C42: No. | D42: 1 | E42: 462 | F42: 462
A43: 9 | B43: G.I. Wire 8 SWG / 6 SWG | C43: Kg. | D43: 2 | E43: 72 | F43: 144
A44: 10 | B44: G.I. Barbed Wire "A" Type | C44: Kg. | D44: 2 | E44: 80 | F44: 160
A45: 11 | B45: Danger Board in Yard | C45: No. | D45: 1 | E45: 87 | F45: 87
A46: 12 | B46: Black Bituminous Paint | C46: Ltr. | D46: 0.5 | E46: 150 | F46: 75
... A50: 16 | B50: Sundries | C50: LS | D50: 1 | E50: 885 | F50: 885
B51: Cost of Material | F51: =SUM(F35:F50) -> 35801
A54: S.N. | B54: Description of Material | C54: Unit | D54: Qty. | E54: RT/U Rs. | F54: Amount (Rs.)
A55: 1 | B55: Dist. Transformer 100 KVA, 11/0.43 kV | C55: No. | D55: 1 | E55: 143782 | F55: 143782
A56: 2 | B56: RSJ 116×100, 11 m Long | C56: No. | D56: 2 | E56: 15270 | F56: 30540
A57: 3 | B57: MS Channel 100×50×6 mm | C57: Kg. | D57: 100 | E57: 70 | F57: 7000
...

Sheet Estimate Pohana
A1: Sr No | B1: Particulars | C1: Qty | D1: Unit | E1: Rate | F1: Material Cost
A2: 1 | B2: LT LINE 3 ph 5 W. | D2: Kms.
A3: 2 | B3: LT XLPE Arm. Cable U/G 3.5 C x120 mm2 Cable | D3: Nos.
A4: 3 | B4: road | D4: Kms.
A5: 4 | B5: LT Double Pole Cut Point on 116 X 100 mm RSJ | D5: Nos.
A6: 5 | B6: Cost of Erection of HT Feeder Pillars | D6: Nos.
A7: 6 | B7: 11 KV HT OH Line with AAAC 55 mm2 | D7: Kms. | E7: As Per Sheet | F7: ='Pohana Material Cost'!F29 -> 10056
A8: 7 | B8: 11 KV 3C X 300 mm2 XLPE U/G Cable | D8: No.
A9: 8 | B9: 11 KV 3C X 185 mm2 XLPE U/G Cable along the road. | D9: Kms.
A10: 9 | B10: 11 KV Double Pole Structure | D10: No.
A11: 10 | B11: 11 KV Single Pole cut point | C11: 1 | D11: No. | E11: ='Pohana Material Cost'!F49 -> 35801 | F11: =C11*E11 -> 35801
A12: 11 | B12: 11 KV AB Switch | D12: No.
